BEGIN:VCALENDAR
VERSION:2.0
PRODID:-//rosaleah - ECPv6.15.11//NONSGML v1.0//EN
CALSCALE:GREGORIAN
METHOD:PUBLISH
X-ORIGINAL-URL:https://rosaleah.com/en/
X-WR-CALDESC:Events for rosaleah
REFRESH-INTERVAL;VALUE=DURATION:PT1H
X-Robots-Tag:noindex
X-PUBLISHED-TTL:PT1H
BEGIN:VTIMEZONE
TZID:UTC
BEGIN:STANDARD
TZOFFSETFROM:+0000
TZOFFSETTO:+0000
TZNAME:UTC
DTSTART:20230101T000000
END:STANDARD
END:VTIMEZONE
BEGIN:VEVENT
DTSTART;TZID=UTC:20241213T193000
DTEND;TZID=UTC:20241213T213000
DTSTAMP:20260424T152944
CREATED:20241104T162643Z
LAST-MODIFIED:20241104T162643Z
UID:991549-1734118200-1734125400@rosaleah.com
SUMMARY:ANAM CARA soul encounters 2024-2025
DESCRIPTION:In Celtic tradition\, the anam cara was the friend of the soul\, someone to whom you could reveal all the intimacies of your life. The awakening of creativity and the understanding that the presence of the divine is hidden in our desires. \nANAM CARA meetings offer you a group place where you can connect on a deep level\, transform yourself\, feel supported\, enjoy the process of discovering yourself\, letting go\, integrating\, creating and transforming. \nWhat will these monthly meetings be like? \nThey will last 2 hours one Friday a month from 7:30 p.m. to 9:30 p.m. \nFirst with conscious movement\, group energy healing and to end the first hour a guided meditation ( Quantic geometry or something relevant for the event). The second part of the meeting will be a sound bath\, ending with a sharing to close the meeting. \nI will record both the meditation and the sound bath so that you can use them until the next meeting. \nPast dates September 20\, October 18\,November 15 \nDecember 13 \nPre full moon \nAs you can see\, they will be special dates to carry out an energetic experience of liberation\, integration and transformation. \nThe meetings will take place at the Sincronia center\, calle de Pere Serafí\, 7 Gracia Barcelona. \nFor those of you who do not live in Barcelona or surrounding areas\, I will create other dates and we will do it online via zoom. \nThe meditation and the work we do will be recorded via zoom and the sound bath will be the recording of the meeting in Barcelona. \nThe contribution per meeting in Barcelona is 35 euros and with it you receive all the work during the two hours\, a sound bath and the recordings of the meditation and the concert. \nAll the best
URL:https://rosaleah.com/en/classes/anam-cara-soul-encounters-2024-2025-2/
CATEGORIES:Anam Cara,conscious movement,creativity,crystal bowls,emotional healing through sound,gongs,healing & energy release,light codes,meditation,Quantic Geometry,readings,sound bath,sound healing,tibetan bowls
ATTACH;FMTTYPE=image/png:https://rosaleah.com/wp-content/uploads/2024/09/ANAM-CARA.png.png
END:VEVENT
BEGIN:VEVENT
DTSTART;TZID=UTC:20240620T203000
DTEND;TZID=UTC:20240620T220000
DTSTAMP:20260424T152944
CREATED:20240118T175648Z
LAST-MODIFIED:20240118T175648Z
UID:991329-1718915400-1718920800@rosaleah.com
SUMMARY:SUMMER SOLSTICE  CELEBRATION ON-LINE via zoom
DESCRIPTION:This will be offer in spanish\, contact the centre if you are an english speaking group that might want a session with Rosa.
URL:https://rosaleah.com/en/classes/summer-solstice-celebration-on-line-via-zoom/
CATEGORIES:creativity,crystal bowls,emotional healing through sound,gongs,healing & energy release,healing activation,light codes,meditation,power animals,sound bath,sound healing,summer solstice celebration
ATTACH;FMTTYPE=image/jpeg:https://rosaleah.com/wp-content/uploads/2024/01/fuego.jpg
END:VEVENT
END:VCALENDAR