BEGIN:VCALENDAR
VERSION:2.0
PRODID:-//rosaleah - ECPv6.15.11//NONSGML v1.0//EN
CALSCALE:GREGORIAN
METHOD:PUBLISH
X-WR-CALNAME:rosaleah
X-ORIGINAL-URL:https://rosaleah.com/en/
X-WR-CALDESC:Events for rosaleah
REFRESH-INTERVAL;VALUE=DURATION:PT1H
X-Robots-Tag:noindex
X-PUBLISHED-TTL:PT1H
BEGIN:VTIMEZONE
TZID:UTC
BEGIN:STANDARD
TZOFFSETFROM:+0000
TZOFFSETTO:+0000
TZNAME:UTC
DTSTART:20220101T000000
END:STANDARD
END:VTIMEZONE
BEGIN:VEVENT
DTSTART;TZID=UTC:20230624T170000
DTEND;TZID=UTC:20230624T210000
DTSTAMP:20260421T082507
CREATED:20230608T164200Z
LAST-MODIFIED:20230608T164215Z
UID:990654-1687626000-1687640400@rosaleah.com
SUMMARY:Voice awareness  mini workshop
DESCRIPTION:Emotional healing through vibrations \n🌠 An encounter with your being to let go of what doesn’t let you live your present and embrace all that you are. \n🌠 With each part of your emotions it opens like a flower to show you the way \n🌠 Sometimes through a groupmate \n🌠 Others through a process of energetic and personal release on your part \n🌠 You will receive 4 hours of classes \n🌠 We will do various activities to free body and voice \n🌠 Healings with Rosa Puerto during the match \nWe will use meditation\, creative movement\, activities to stretch and warm up the voice\, principles of using intonation on a personal level or when you want to use it with a patient. \nYou will explore the healing power of vowels. \nVarious warm-ups and vocal activities. \nRelease of the body from emotional pain \nRelease of tensions \nBe careful with your voice \nThis is a practical workshop and the goal is to release old energies\, realizing that in order to create a space of inner power we must first get rid of what is obsolete in our personal pain body. \nTo reserve a place you can call 646664311. \nYoga Darsana \nHours: Saturday June 24 in the afternoon from 5:00 p.m. to 9:00 p.m. \nIn this course you will learn to manage your emotions and through consciousness\, energy and sound. \nThe course has a cost of 66 euros \nAnd the payment can be made bizum or by transfer\, enter the 66 euros as a reserve in the Banco de Santander account IBAN ES-85 0049 0124 79 2690665181 in the name of Rosa Puerto\, indicating her name.
URL:https://rosaleah.com/en/classes/voice-awareness-mini-workshop/
CATEGORIES:actividades de liberación vocal,desbloqueo emocional,entonación,movimiento consciente,sanación grupal,sesión de terapia del sonido,vocales,voz y consciencia
ATTACH;FMTTYPE=image/jpeg:https://rosaleah.com/wp-content/uploads/2023/06/cantando-a-la-hija-de-Carmelita.jpg
END:VEVENT
END:VCALENDAR