BEGIN:VCALENDAR
VERSION:2.0
PRODID:-//rosaleah - ECPv6.15.11//NONSGML v1.0//EN
CALSCALE:GREGORIAN
METHOD:PUBLISH
X-ORIGINAL-URL:https://rosaleah.com/en/
X-WR-CALDESC:Events for rosaleah
REFRESH-INTERVAL;VALUE=DURATION:PT1H
X-Robots-Tag:noindex
X-PUBLISHED-TTL:PT1H
BEGIN:VTIMEZONE
TZID:UTC
BEGIN:STANDARD
TZOFFSETFROM:+0000
TZOFFSETTO:+0000
TZNAME:UTC
DTSTART:20220101T000000
END:STANDARD
END:VTIMEZONE
BEGIN:VEVENT
DTSTART;TZID=UTC:20231124T203000
DTEND;TZID=UTC:20231124T220000
DTSTAMP:20260424T111138
CREATED:20231004T175946Z
LAST-MODIFIED:20231004T175946Z
UID:990907-1700857800-1700863200@rosaleah.com
SUMMARY:Monthly Sound Bath
DESCRIPTION:                                          Facilitated by Rosa Puerto\, offering concerts since 2000 and \n                                       training sound healers in Spain and Latin America sound healer \n                                                   and author of the Book “Sound Healing” 2010 \nCONCERT WITH QUARTZ BOWLS\, GONGS\, TIBETAN BOWLS\, PERCUSSIONS AND VOICE \n“The sound of these instruments\, together with the meditation techniques\, help us calm the \nmind\, relieve emotional disturbances and induce a psychophysical state of relaxation and \nliberation that reinforces our life.” \nWhat is a healing-concert like? \nHealing concerts are part of one of the branches of sound therapy\, which in turn is part of \nvibrational therapies. The vibration of each bowl with its note resonates\, creating affinity \nand resonance with each of our chakras. \nThe session lasts an hour and a half\, being divided into four phases: \nFirst of all\, there is a targeted muscle relaxation to eliminate tension and internalize \nthe attendees so that they can be more receptive. Second\, a healing of the chakras. \nThirdly there is a concert. To conclude the meeting there is a guided meditation with \ncrystal  bowls working on a specific topic for the group using crystals\, essences and at \nthe end a group reading with the “Star Seeds” cards that Rosa Puerto has created. \nThe benefits of a healing concert with crystal bowls are multiple: \nOn a physical level there is a release of stress and relaxation\, restoration of the balance \nof the endocrine system through the vibration of the pituitary or pituitary gland\, stimulates \nthe generation of endorphins and dopamine\, and healing of body areas\, emotions and thoughts. \nOn a mental level\, it reactivates brain and neuronal functions\, balances the cerebral hemispheres\, \nstimulating the activity of alpha waves or deep meditation\, giving us mental clarity. \nOn an emotional level\, the frequency of harmonics releases emotional tensions\, relaxing the nervous system. \nAll you have to do during a concert is lie down comfortably and close your eyes and relax. Then \nI start playing and how the playing technique changes frequently and there is no fixed rhythm\, \nthis results in the brain not being able to follow and the “drag” effect takes place. \n“Entrainment” is the change of brain wave frequencies. \nFrequencies \nThe Alpha brain wave state is achieved very quickly and is followed by the Theta brain wave state. \nAlpha waves are defined as brain wave frequencies between 8 and 12 Hz. Daydreaming\, imagination\, \nand associative thinking are part of alpha brain wave activity. Alpha waves are present in states \nof relaxation. Theta waves are defined as brain wave frequencies between 4 and 7 Hz. Theta waves \nare produced during sleep – or REM (rapid eye movement) sleep – although they are also produced \nduring deep meditation. Theta brain wave frequencies are most often where the gongs will take you. \nYou will most likely enter a deep\, meditative dream state. Some people may enter the Delta brain \nwave state (deep sleep frequency). Theta brain waves are a good state of consciousness for healing \nto occur. \nThrough the purity of these tones we reconnect with our original pattern that harmonizes us. \nCome and enjoy an encounter that will create a space of peace within you. \nWhen? \nFridays once a month. \nDates:  October 20\, November 24 and December 15. \nHours: 8:00 p.m.-9:30 p.m. \nContribution: 22 euros \nPlace: Espai Sincronia  (Sant Pere Martir) Gracia Barcelona \nTo pay and reserve a place (limited places) call 637831592 or contact \nRosa Puerto at contacto@rosaleah.com.
URL:https://rosaleah.com/en/classes/monthly-sound-bath/
CATEGORIES:crystal bowls,gongs,healing & energy release,percussions,sound bath,sound healing,toning
ATTACH;FMTTYPE=image/jpeg:https://rosaleah.com/wp-content/uploads/2023/10/concierto-de-cuencos-El-Acantilado.jpg
END:VEVENT
BEGIN:VEVENT
DTSTART;TZID=UTC:20231111T100000
DTEND;TZID=UTC:20231112T193000
DTSTAMP:20260424T111138
CREATED:20230928T111202Z
LAST-MODIFIED:20230928T111215Z
UID:990827-1699696800-1699817400@rosaleah.com
SUMMARY:Vocal Awareness: Emotional healing through vibration
DESCRIPTION:VOCAL AWARENES \nLevel I: Emotional healing through vibration \n🌠 An encounter with your being to let go of what doesn’t let you live your present and embrace everything that you are. \n🌠 Feel the union of your tribe \n🌠 You will learn various energy release techniques\, \nemotional through sound \n🌠 Activities to warm up and open your voice \n🌠 How every part of your emotions opens like a flower to show you the way \n🌠  Sometimes through a group mate \n🌠 Others through an energetic and personal liberation process of yours \n🌠  You receive 16 teaching hours \n🌠  A dossier with various activities \n🌠 4 mp3 audios as support for after the course. \n🌠  Healings during the workshop with Rosa Puerto \n🌠 You will activate and unblock your 5th chakra. \n🌠 Warm-ups and various voice activities. \n🌠 Bija mantras\, how to use them on a personal level and as healing \n🌠 Liberation of the body from emotional pain \n🌠 Release of tension \n🌠 Healing through your voice \nWe will use meditation\, creative movement\, activities to stretch and warm up the voice\, principles for using toning on a personal level or when you want to use it with a patient. You will explore the healing force of vowels and consonants\, sacred words\, how to heal another and how to apply it on a daily level to improve your life. \nThis is a practical workshop and the objective is to release old energies\, becoming aware that to create a space of internal power we first need to get rid of the obsolete in our body of personal pain. \nRosa Puerto has been accompanying processes of change and transformation since 1999 through voice\, sound healing\, creativity and transpersonal psychotherapy. Author of the book “Sound Healing” (2010 published in Spanish) and the digital book “Universal Mother” (2022) in addition to 4 CDs\, and the book and set of cards “Stellar Seeds: a compass to return to your essence” (not published since it is an initiation/shamanic book which has been used with his groups and patients since 2002). \nTo reserve a place you can call 637831592 \nHours: Saturday and Sunday from 10:00 a.m. to 7:30 p.m. \nIn this course you learn to manage your emotions and resolve internal conflicts through consciousness\, energy and sound. \nThe course costs 222 in person. (online is 111) \nAnd the payment can be made by byzum or via transfer\, you deposit the 111 euros as a reserve to the account of the Banco de Santander IBAN ES-85 0049 0124 79 2690665181 in the name of Rosa Puerto\, indicating your name.
URL:https://rosaleah.com/en/classes/vocal-awareness-emotional-healing-through-vibration/
CATEGORIES:emotional healing through sound,entonación,sound healing,toning,vocal awareness,vocales,voz y consciencia,workshop vocal awereness thorugh sound
ATTACH;FMTTYPE=image/jpeg:https://rosaleah.com/wp-content/uploads/2023/09/taller-voz-1-scaled.jpg
END:VEVENT
BEGIN:VEVENT
DTSTART;TZID=UTC:20231020T203000
DTEND;TZID=UTC:20231020T220000
DTSTAMP:20260424T111138
CREATED:20231004T175136Z
LAST-MODIFIED:20231004T175150Z
UID:990901-1697833800-1697839200@rosaleah.com
SUMMARY:Monthly Healing Concert/ Sound Bath
DESCRIPTION:Facilitated by Rosa Puerto\, offering concerts since 2000 and\n              training sound healers in Spain and Latin America sound healer\n                   and author of the Book “Sound Healing” 2010\n\nCONCERT WITH QUARTZ BOWLS\, GONGS\, TIBETAN BOWLS\, PERCUSSIONS AND VOICE\n“The sound of these instruments\, together with the meditation techniques\, help us calm the \nmind\, relieve emotional disturbances and induce a psychophysical state of relaxation and \nliberation that reinforces our life.”\nWhat is a healing-concert like?\nHealing concerts are part of one of the branches of sound therapy\, which in turn is part of\nvibrational therapies. The vibration of each bowl with its note resonates\, creating affinity\nand resonance with each of our chakras.\nThe session lasts an hour and a half\, being divided into four phases:\n\nFirst of all\, there is a targeted muscle relaxation to eliminate tension and internalize \nthe attendees so that they can be more receptive. Second\, a healing of the chakras.\nThirdly there is a concert. To conclude the meeting there is a guided meditation with \ncrystal  bowls working on a specific topic for the group using crystals\, essences and at \nthe end a group reading with the “Star Seeds” cards that Rosa Puerto has created. \nThe benefits of a healing concert with crystal bowls are multiple: \nOn a physical level there is a release of stress and relaxation\, restoration of the balance\nof the endocrine system through the vibration of the pituitary or pituitary gland\, stimulates\nthe generation of endorphins and dopamine\, and healing of body areas\, emotions and thoughts.\n On a mental level\, it reactivates brain and neuronal functions\, balances the cerebral hemispheres\,stimulating the activity of alpha waves or deep \nmeditation\, giving us mental clarity. On an emotional level\, the frequency of harmonics releases\nemotional tensions\, relaxing the nervous system.\nAll you have to do during a concert is lie down comfortably and close your eyes and relax. Then \nI start playing and how the playing technique changes frequently and there is no fixed rhythm\, \nthis results in the brain not being able to follow and the “drag” effect takes place. \n“Entrainment” is the change of brain wave frequencies.\n\nFrequencies\nThe Alpha brain wave state is achieved very quickly and is followed by the Theta brain wave state. \nAlpha waves are defined as brain wave frequencies between 8 and 12 Hz. Daydreaming\, imagination\, \nand associative thinking are part of alpha brain wave activity. Alpha waves are present in states \nof relaxation. Theta waves are defined as brain wave frequencies between 4 and 7 Hz. Theta waves \nare produced during sleep – or REM (rapid eye movement) sleep – although they are also produced \nduring deep meditation. Theta brain wave frequencies are most often where the gongs will take you.\n You will most likely enter a deep\, meditative dream state. Some people may enter the Delta brain\n wave state (deep sleep frequency). Theta brain waves are a good state of consciousness for healing\n to occur.\nThrough the purity of these tones we reconnect with our original pattern that harmonizes us. \nCome and enjoy an encounter that will create a space of peace within you.\n\nWhen?\n\nFridays once a month.\n\nDates:  October 20\, November 24 and December 15.\n\nHours: 8:00 p.m.-9:30 p.m.\n\nContribution: 22 euros\n\nPlace: Espai Sincronia  (Sant Pere Martir) Gracia Barcelona\n\nTo pay and reserve a place (limited places) call 637831592 or contact \nRosa Puerto at contacto@rosaleah.com.
URL:https://rosaleah.com/en/classes/monthly-healing-concert-sound-bath/
CATEGORIES:baño de sonido,crystal bowls,desbloqueo emocional,gongs,percussions,sanación grupal,sound bath,sound healing,tibetan bowls,toning
ATTACH;FMTTYPE=image/jpeg:https://rosaleah.com/wp-content/uploads/2023/09/foto-sala-con-instrumentos-septiembre-2023.jpg
END:VEVENT
END:VCALENDAR