BEGIN:VCALENDAR
VERSION:2.0
PRODID:-//rosaleah - ECPv6.15.11//NONSGML v1.0//EN
CALSCALE:GREGORIAN
METHOD:PUBLISH
X-WR-CALNAME:rosaleah
X-ORIGINAL-URL:https://rosaleah.com/en/
X-WR-CALDESC:Events for rosaleah
REFRESH-INTERVAL;VALUE=DURATION:PT1H
X-Robots-Tag:noindex
X-PUBLISHED-TTL:PT1H
BEGIN:VTIMEZONE
TZID:UTC
BEGIN:STANDARD
TZOFFSETFROM:+0000
TZOFFSETTO:+0000
TZNAME:UTC
DTSTART:20220101T000000
END:STANDARD
END:VTIMEZONE
BEGIN:VEVENT
DTSTART;VALUE=DATE:20230514
DTEND;VALUE=DATE:20230515
DTSTAMP:20260424T222208
CREATED:20230302T110128Z
LAST-MODIFIED:20230408T191828Z
UID:989792-1684022400-1684108799@rosaleah.com
SUMMARY:Voice and Consciousness Level 2
DESCRIPTION:
URL:https://rosaleah.com/en/classes/voz-y-consciencia-nivel-2/
CATEGORIES:voz y conciencia nivel II
ATTACH;FMTTYPE=image/jpeg:https://rosaleah.com/wp-content/uploads/2023/03/Voz-EVENTS-PIC.jpg
END:VEVENT
BEGIN:VEVENT
DTSTART;TZID=UTC:20230422T080000
DTEND;TZID=UTC:20230423T170000
DTSTAMP:20260424T222208
CREATED:20230302T110014Z
LAST-MODIFIED:20230408T192140Z
UID:989795-1682150400-1682269200@rosaleah.com
SUMMARY:Quartz Bowls Workshop Level 1-2
DESCRIPTION:
URL:https://rosaleah.com/en/classes/taller-cuencos-de-cuarzo-nivel-1-2/
CATEGORIES:Taller cuencos de cuarzo
ATTACH;FMTTYPE=image/jpeg:https://rosaleah.com/wp-content/uploads/2023/03/cuencos-de-cuarzo-events-pic.jpg
END:VEVENT
BEGIN:VEVENT
DTSTART;VALUE=DATE:20230416
DTEND;VALUE=DATE:20230417
DTSTAMP:20260424T222208
CREATED:20230302T105739Z
LAST-MODIFIED:20230408T192414Z
UID:989798-1681603200-1681689599@rosaleah.com
SUMMARY:Voice and Consciousness Level 1
DESCRIPTION:
URL:https://rosaleah.com/en/classes/voz-y-consciencia-nivel-1/
CATEGORIES:Voz y conciencia nivel 1
ATTACH;FMTTYPE=image/jpeg:https://rosaleah.com/wp-content/uploads/2023/02/Voz-y-consciencia-nivel-1-EVENTS-pic.jpg
END:VEVENT
BEGIN:VEVENT
DTSTART;TZID=UTC:20230325T090000
DTEND;TZID=UTC:20230326T170000
DTSTAMP:20260424T222208
CREATED:20230302T105630Z
LAST-MODIFIED:20230408T193315Z
UID:989802-1679734800-1679850000@rosaleah.com
SUMMARY:Gongs and Tibetan Singing Bowls Workshop
DESCRIPTION:
URL:https://rosaleah.com/en/classes/taller-gongs-y-cuencos-tibetanos-2/
CATEGORIES:cuencos tibetanos,Taller Gongs,Taller Gongs y cuencos tibetanos
ATTACH;FMTTYPE=image/jpeg:https://rosaleah.com/wp-content/uploads/2023/03/Tibetan-gongs-event-pic.jpg
END:VEVENT
BEGIN:VEVENT
DTSTART;VALUE=DATE:20230325
DTEND;VALUE=DATE:20230326
DTSTAMP:20260424T222208
CREATED:20230210T114806Z
LAST-MODIFIED:20230408T193941Z
UID:989807-1679702400-1679788799@rosaleah.com
SUMMARY:Voice and Consciousness Level 1
DESCRIPTION:Description\n	\n	Voice and Consciousness Level 1 \nOn this course\, you will learn to manage your emotions and resolve inner conflicts through consciousness\, energy\, and sound. \n  \nAn encounter with your being to let go of what keeps you from living your present and embrace all that you are. \n\nFeeling the union of your tribe\nAs every part of your emotions open up like a flower to show you the way.\nSometimes through a group partner\nSometimes through an energetic and personal liberation process of your own.\nYou receive 12 hours of the workshop\, including a dossier\nFour mp3 audios as support for after the course.\nAnd a healing with Rosa Puerto\, as well as all group practices.
URL:https://rosaleah.com/en/classes/voz-y-conciencia-nivel-1/
CATEGORIES:Taller Gongs,Voz y conciencia nivel 1
ATTACH;FMTTYPE=image/jpeg:https://rosaleah.com/wp-content/uploads/2023/02/Voz-y-consciencia-nivel-1-EVENTS-pic.jpg
END:VEVENT
BEGIN:VEVENT
DTSTART;TZID=UTC:20230226T120000
DTEND;TZID=UTC:20230226T140000
DTSTAMP:20260424T222208
CREATED:20230210T114205Z
LAST-MODIFIED:20230408T194732Z
UID:989815-1677412800-1677420000@rosaleah.com
SUMMARY:Healing Concert
DESCRIPTION:Description\n	\n	Healing Concert
URL:https://rosaleah.com/en/classes/concierto-sanacion-2-copy/
CATEGORIES:concierto sanacion
ATTACH;FMTTYPE=image/jpeg:https://rosaleah.com/wp-content/uploads/2023/02/concerts-event-pic.jpg
END:VEVENT
BEGIN:VEVENT
DTSTART;TZID=UTC:20230225T180000
DTEND;TZID=UTC:20230225T210000
DTSTAMP:20260424T222208
CREATED:20230210T110026Z
LAST-MODIFIED:20230408T195101Z
UID:989820-1677348000-1677358800@rosaleah.com
SUMMARY:Healing Concert
DESCRIPTION:Description\n	\n	Healing Concert
URL:https://rosaleah.com/en/classes/concierto-sanacion/
CATEGORIES:concierto sanacion
ATTACH;FMTTYPE=image/jpeg:https://rosaleah.com/wp-content/uploads/2023/02/concerts-event-pic.jpg
END:VEVENT
END:VCALENDAR